BEGIN:VCALENDAR
VERSION:2.0
PRODID:-//Helmut Schindlwick - ECPv4.2.5//NONSGML v1.0//EN
CALSCALE:GREGORIAN
METHOD:PUBLISH
X-WR-CALNAME:Helmut Schindlwick
X-ORIGINAL-URL:https://it-governance.schindlwick.com
X-WR-CALDESC:Events for Helmut Schindlwick
BEGIN:VEVENT
DTSTART;TZID=Europe/Vienna:20161208T200000
DTEND;TZID=Europe/Vienna:20161208T210000
DTSTAMP:20260424T073057
CREATED:20161129T041648
LAST-MODIFIED:20161129T104041
UID:852-1481227200-1481230800@it-governance.schindlwick.com
SUMMARY:Live Stream at Kickstarter for IT Governance
DESCRIPTION:IT Governance - the thoughts and concepts within this book.\nDuring this live stream at kickstarter I will give you an overview of the current book status and the main concepts\, but also looking to the competitive products on the market. You can raise questions that i will try to answer during this live event.
URL:https://it-governance.schindlwick.com/event/live-stream-at-kickstarter-for-it-governance/
LOCATION:New York\, NY\, United States
CATEGORIES:Online Event
ATTACH;FMTTYPE=image/jpeg:https://it-governance.schindlwick.com/wp-content/uploads/2016/11/Kickstarter-Live-Stream-IT-Governance.jpg
ORGANIZER;CN="Helmut%20Schindlwick":MAILTO:helmut@schindlwick.com
END:VEVENT
END:VCALENDAR